Workbook

Sheet Valores
A1: Precios de Insumos y Labores
C2: precios al: | D2: 46091
E3: Unidad de medida por dosis | F3: Valor unitario | G3: U$D/Unidad
B4: código | C4: Producto / Labor | D4: Moneda
C6: Fertilizante- SPS | D6: dólares | E6: Kg/Ha. | F6: 430 | G6: U$S/ton.
C7: Fertilizante- SPT | D7: dólares | E7: Kg/Ha. | F7: 885 | G7: U$S/ton.
C8: Fertilizante- MicroEssentials Sz | D8: dólares | E8: Kg/Ha. | F8: 1100 | G8: U$S/ton.
C9: Fertilizante- MicroEssentials S9 | D9: dólares | E9: Kg/Ha. | F9: 1080 | G9: U$S/ton.
C10: Fertilizante- MicroStar Rizobacter | D10: dólares | E10: Kg/Ha. | F10: 2600 | G10: U$S/ton.
C11: Fertilizante- Urea | D11: dólares | E11: Kg/Ha. | F11: 970 | G11: U$S/ton.
C12: Fertilizante- MAP | D12: dólares | E12: Kg/Ha. | F12: 1040 | G12: U$S/ton.
C13: Fertilizante- Solmix 80-20 | D13: dólares | E13: Lts/Ha. | F13: 560 | G13: U$S/ton.
C14: Fertilizante- Absortec copper. | D14: dólares | E14: Lts/Ha. | F14: 9 | G14: U$S/Lts.
C15: Coadyuvante- Meta Uno (aciete metilado) | D15: dólares | E15: Lts/Ha. | F15: 3.5 | G15: U$S/Lts.
C16: Coadyuvante- Optimizer | D16: dólares | E16: Lts/Ha. | F16: 4.5 | G16: U$S/Lts.
C17: Coadyubante- Silwet | D17: dólares | E17: Lts/Ha. | F17: 45 | G17: U$S/Lts.
... C24: Fitoestimulante- Vitagrow | D24: dólares | E24: grs./Ha. | F24: 60.5 | G24: U$S/Kg.
C25: Curasemilla Maxim RFC (soja) | D25: dólares | E25: Dosis/Ha. | F25: =68*0.08 -> 5.44 | G25: U$S/Dosis | H25: costo dosis/Ha
C26: Curasemilla Tenacius (trigo) | D26: dólares | E26: Dosis/Ha. | F26: =32*0.4 -> 12.8 | G26: U$S/Dosis | H26: costo dosis/Ha
C27: Curasemilla Compinche (trigo) | D27: dólares | E27: Dosis/Ha. | F27: =36.1*0.16 -> 5.776 | G27: U$S/Dosis | H27: costo dosis/Ha
C28: Curasemilla Rizo Pack 102 (soja) | D28: dólares | E28: Dosis/Ha. | F28: 4.5 | G28: U$S/Dosis | H28: costo dosis/Ha
C29: Insecticida- Arpegio (Tiametox14,1+Lamb10,6) | D29: dólares | E29: Lts/Ha. | F29: 30.5 | G29: U$S/Lts.
C30: Insecticida- Spector (Lambdacialotrina 25%) | D30: dólares | E30: Lts/Ha. | F30: 21 | G30: U$S/Lts.
C31: Insecticida- Esfinge (Bifentrin 20%) | D31: dólares | E31: Lts/Ha. | F31: 19.5 | G31: U$S/Lts.
C32: Insecticida- Abamectina 3,6% | D32: dólares | E32: Lts/Ha. | F32: 11.5 | G32: U$S/Lts.
C33: Insecticida- Solomon (Imida 21% + Betacyflutrina 9%) | D33: dólares | E33: Lts/Ha. | F33: 42 | G33: U$S/Lts.
C34: Insecticida- Mentor (Clorantraniliprole 20%) | D34: dólares | E34: Lts/Ha. | F34: 60 | G34: U$S/Lts.
C35: Insecticida- Cruza (lmida 10% + Bifentrin 3%) | D35: dólares | E35: Lts/Ha. | F35: 11.5 | G35: U$S/Lts.
C36: Insecticida- Mustang (zetametrina 20%) | D36: dólares | E36: Lts/Ha. | F36: 22 | G36: U$S/Lts.
C37: Crustacicida- Clartex XTRA | D37: dólares | E37: Kg/Ha. | F37: 10.3 | G37: U$S/Kg.
C38: Molusquicida- Clartex +R DTS | D38: dólares | E38: Kg/Ha. | F38: 8.3 | G38: U$S/Kg.
C39: Fungicida- Tempus Max (Protioconazole 17,5% + Azoxistrobina 16%) | D39: dólares | E39: Lts/Ha. | F39: 23 | G39: U$S/Lts. | H39: 0.4
C40: Fungicida- Tempus (Azoxistrobina 20% + Ciproconazole 8%) | D40: dólares | E40: Lts/Ha. | F40: 15.5 | G40: U$S/Lts. | H40: 0.35
C41: Fungicida Miravis Duo (Difenoconazole 12,5% + Pydiflumetofen 7,5%) | D41: dólares | E41: Lts/Ha. | F41: 43.2 | G41: U$S/Lts. | H41: 0.6
C42: Fungicida- Cripton- (Protioconazole 17,5% + Trifloxystrobin 15%) | D42: dólares | E42: Lts/Ha. | F42: 29.5 | G42: U$S/Lts. | H42: 0.4
C43: Fungicida- Cripton xpro- (Protioconazole 17,5% + Trifloxistrobin 15% + Bixafen 15%) | D43: dólares | E43: Lts/Ha. | F43: 49.4 | G43: U$S/Lts. | H43: 0.5
C44: Herbicida- Atrazina 90% | D44: dólares | E44: Kg/Ha. | F44: 6.95 | G44: U$S/Kg. | I44: Mecanismo/s de acción
C45: Herbicida- Terbyne (Terbutilazina 50%) | D45: dólares | E45: Lts/Ha. | F45: 7.5 | G45: U$S/Lts.
C46: Herbicida- Acuron (Biciclopirona 20%) | D46: dólares | E46: Lts/Ha. | F46: 38 | G46: U$S/Lts. | I46: aCCasa | J46: Inhibidor de la acetil coenzima A carboxilasa
C47: Herbicida- Cambium (Diflufenican 50%) | D47: dólares | E47: Lts/Ha. | F47: 27 | G47: U$S/Lts. | I47: ALS | J47: Inhibidor de la acetolactato sintasa
...

Sheet Tr
B1: TRIGO - Margen Bruto comparativo
B5: Precio Bruto | C5: =+Valores!#REF! -> #REF! | D5: =+RESUMEN!G4 -> 31500 | E5: $/qq. | F5: =+D5/C5-1 -> #REF! | H5: T.C. actual : | J5: =+RESUMEN!Q15 -> 1500 | K5: $ = 1 U$S
B7: GASTOS DE COMERCIALIZACIÓN | H7: T.C. año anterior : | J7: =+Valores!#REF! -> #REF! | K7: $ = 1 U$S
B8: Flete Largo | C8: =+Valores!#REF! -> #REF! | D8: =+Valores!#REF! -> #REF! | E8: $/qq. | F8: =+D8/C8-1 -> #REF!
B9: Comisión | C9: 0.03 | D9: 0.03 | E9: %
B10: Precio Neto | C10: =+C5*(1-C9)-C8 -> #REF! | D10: =+D5*(1-D9)-D8 -> #REF! | E10: $/qq. | F10: =+D10/C10-1 -> #REF!
B13: GASTOS DE IMPLANTACIÓN Y PROTECCIÓN | E13: Precio | F13: Precio | H13: Gto ($xha) | I13: Gto ($xha) | K13: qq./ha. | L13: qq./ha.
B14: Labor / Insumo | C14: Dosis/Nº | E14: 06-07 | F14: 07-08 | G14: Unidad | H14: 07-08 | I14: 08-09 | J14: % | K14: 07-08 | L14: 08-09 | M14: %
B15: Adherente x-trim | C15: =+TRIGO!C15 -> 1 | D15: lts./ha. | E15: =+Valores!#REF! -> #REF! | F15: =+Valores!F17 -> 45 | G15: U$S/lt. | H15: =C15*E15*$J$7 -> #REF! | I15: =C15*F15*$J$5 -> 67500 | J15: =+I15/H15-1 -> #REF! | K15: =H15/$C$10 -> #REF! | L15: =I15/$D$10 -> #REF! | M15: =+L15/K15-1 -> #REF!
B16: Glifosato | C16: =+TRIGO!C17 -> 2.2 | D16: lts./ha. | E16: =+Valores!#REF! -> #REF! | F16: =+Valores!F65 -> 4.3 | G16: U$S/lt. | H16: =C16*E16*J7 -> #REF! | I16: =C16*F16*J5 -> 14190 | J16: =+I16/H16-1 -> #REF! | K16: =H16/$C$10 -> #REF! | L16: =I16/$D$10 -> #REF! | M16: =+L16/K16-1 -> #REF!
B17: Metsulfurón Metil | C17: =+TRIGO!C18 -> 15 | D17: grs./ha. | E17: =+Valores!#REF! -> #REF! | F17: =+Valores!F56 -> 36.6 | G17: U$S/kg. | H17: =C17*(E17/1000)*J7 -> #REF! | I17: =C17*(F17/1000)*J5 -> 823.5 | J17: =+I17/H17-1 -> #REF! | K17: =H17/$C$10 -> #REF! | L17: =I17/$D$10 -> #REF! | M17: =+L17/K17-1 -> #REF!
B18: Banvel | C18: =+TRIGO!C19 -> 1 | D18: lts./ha. | E18: =+Valores!#REF! -> #REF! | F18: =+Valores!F71 -> 7.2 | H18: =C18*E18*$J$7 -> #REF! | I18: =C18*F18*$J$5 -> 10800 | J18: =+I18/H18-1 -> #REF! | K18: =H18/$C$10 -> #REF! | L18: =I18/$D$10 -> #REF! | M18: =+L18/K18-1 -> #REF!
B19: Aceite Agrícola | C19: =+TRIGO!#REF! -> #REF! | D19: cc./ha. | E19: =+Valores!#REF! -> #REF! | F19: =+Valores!#REF! -> #REF! | G19: U$S/lt. | H19: =C19*(E19)*J7 -> #REF! | I19: =C19*(F19)*J5 -> #REF! | J19: =+I19/H19-1 -> #REF! | K19: =H19/$C$10 -> #REF! | L19: =I19/$D$10 -> #REF! | M19: =+L19/K19-1 -> #REF!
B20: Fungicida Nativo | C20: =+TRIGO!C21 -> 0.3 | D20: cc./ha. | E20: =+Valores!#REF! -> #REF! | F20: =+Valores!F42 -> 29.5 | G20: U$S/lt. | H20: =C20*(E20)*J7 -> #REF! | I20: =C20*(F20)*J5 -> 13275 | J20: =+I20/H20-1 -> #REF! | K20: =H20/$C$10 -> #REF! | L20: =I20/$D$10 -> #REF! | M20: =+L20/K20-1 -> #REF!
B21: Curasemillas Escudo | C21: =+TRIGO!C22 -> 0.6 | D21: lts./ha. | E21: =+Valores!#REF! -> #REF! | F21: =+Valores!F26 -> 12.8 | G21: U$S/lt. | H21: =C21*(E21)*J7 -> #REF! | I21: =C21*(F21)*J5 -> 11520 | J21: =+I21/H21-1 -> #REF! | K21: =H21/$C$10 -> #REF! | L21: =I21/$D$10 -> #REF! | M21: =+L21/K21-1 -> #REF!
B22: Sub-Total AGROQ. | E22: =+H22/$J$7 -> #REF! | F22: =+I22/$J$5 -> #REF! | G22: U$S/ha. | H22: =SUM(H15:H21) -> #REF! | I22: =SUM(I15:I21) -> #REF! | J22: $/ha. | K22: =SUM(K15:K21) -> #REF! | L22: =SUM(L15:L21) -> #REF! | M22: qq./ha.
B24: MAP-S | C24: =+TRIGO!C30 -> 100 | D24: kg./ha. | E24: =+Valores!#REF! -> #REF! | F24: =+Valores!F12 -> 1040 | G24: U$S/ton. | H24: =C24*(E24/1000)*J7 -> #REF! | I24: =C24*(F24/1000)*J5 -> 156000 | J24: =+I24/H24-1 -> #REF! | K24: =H24/$C$10 -> #REF! | L24: =I24/$D$10 -> #REF! | M24: =+L24/K24-1 -> #REF!
B25: Urea | C25: =+TRIGO!C31 -> 200 | D25: kg./ha. | E25: =+Valores!#REF! -> #REF! | F25: =+Valores!F11 -> 970 | G25: U$S/ton. | H25: =C25*(E25/1000)*J7 -> #REF! | I25: =C25*(F25/1000)*J5 -> 291000 | J25: =+I25/H25-1 -> #REF! | K25: =H25/$C$10 -> #REF! | L25: =I25/$D$10 -> #REF! | M25: =+L25/K25-1 -> #REF!
B26: Sub-Total FERTILIZ. | E26: =+H26/$J$7 -> #REF! | F26: =+I26/$J$5 -> 298 | G26: U$S/ha. | H26: =SUM(H24:H25) -> #REF! | I26: =SUM(I24:I25) -> 447000 | J26: $/ha. | K26: =SUM(K24:K25) -> #REF! | L26: =SUM(L24:L25) -> #REF! | M26: qq./ha.
B28: Semilla | C28: =+TRIGO!C36 -> 3 | D28: kg./ha. | E28: =+Valores!#REF!/40*C28 -> #REF! | F28: =+Valores!F87/40*C28 -> 1.275 | G28: U$S/ha. | H28: =E28*J7 -> #REF! | I28: =F28*J5 -> 1912.5 | J28: =+I28/H28-1 -> #REF! | K28: =H28/$C$10 -> #REF! | L28: =I28/$D$10 -> #REF! | M28: =+L28/K28-1 -> #REF!
B30: Siembra c/Fertilización Simple | C30: =+TRIGO!C39 -> 1 | D30: siembra | E30: =+Valores!#REF! -> #REF! | F30: =+Valores!F109 -> 55 | G30: $/ha. | H30: =C30*E30 -> #REF! | I30: =+C30*F30 -> 55 | J30: =+I30/H30-1 -> #REF! | K30: =H30/$C$10 -> #REF! | L30: =I30/$D$10 -> #REF! | M30: =+L30/K30-1 -> #REF!
B31: Pulverización Aérea | C31: =+TRIGO!C40 -> 0 | D31: aplicación | E31: =+Valores!#REF! -> #REF! | F31: =+Valores!F100 -> 14 | G31: U$S/ha. | H31: =C31*E31*J7 -> #REF! | I31: =C31*F31*J5 -> 0 | J31: =+I31/H31-1 -> #REF! | K31: =H31/$C$10 -> #REF! | L31: =I31/$D$10 -> #REF! | M31: =+L31/K31-1 -> #REF!
B32: Fertilización al Voleo | C32: =+TRIGO!C41 -> 2 | D32: aplicación | E32: =+Valores!#REF! -> #REF! | F32: =+Valores!F99 -> 14 | G32: $/ha. | H32: =C32*E32 -> #REF! | I32: =+F32*C32 -> 28 | J32: =+I32/H32-1 -> #REF! | K32: =H32/$C$10 -> #REF! | L32: =I32/$D$10 -> #REF! | M32: =+L32/K32-1 -> #REF!
B33: Pulverización Terrestre | C33: =+TRIGO!C42 -> 1 | D33: aplicación | E33: =+Valores!#REF! -> #REF! | F33: =+Valores!F101 -> 8 | G33: $/ha. | H33: =C33*E33 -> #REF! | I33: =C33*F33 -> 8 | J33: =+I33/H33-1 -> #REF! | K33: =H33/$C$10 -> #REF! | L33: =I33/$D$10 -> #REF! | M33: =+L33/K33-1 -> #REF!
B34: Sub-Total LABORES | E34: =+H34/$J$7 -> #REF! | F34: =+I34/$J$5 -> 0.060666667 | G34: U$S/ha. | H34: =SUM(H30:H33) -> #REF! | I34: =SUM(I30:I33) -> 91 | J34: $/ha. | K34: =SUM(K30:K33) -> #REF! | L34: =SUM(L30:L33) -> #REF! | M34: =+L34/K34-1 -> #REF!
B36: Seguro Contra Riesgo Climático | C36: =+TRIGO!C45 -> 30 | D36: qq./ha | E36: =+Valores!#REF! -> #REF! | F36: =+TRIGO!E45 -> 0.0461 | G36: % | H36: =C36*(E36)*C5 -> #REF! | I36: =C36*(F36)*D5 -> 43564.5 | J36: =+I36/H36-1 -> #REF! | K36: =H36/$C$10 -> #REF! | L36: =I36/$D$10 -> #REF! | M36: =+L36/K36-1 -> #REF!
B38: Total G. I. y P. | E38: =+H38/J7 -> #REF! | F38: =+I38/J5 -> #REF! | G38: =+F38/E38-1 -> #REF! | H38: =+H22+H26+H34+H28+H36 -> #REF! | I38: =+I22+I26+I34+I28+I36 -> #REF! | J38: =+I38/H38-1 -> #REF! | K38: =+K22+K26+K34+K28+K36 -> #REF! | L38: =+L22+L26+L34+L28+L36 -> #REF! | M38: =+L38/K38-1 -> #REF!
K39: =+H38/C10-K38 -> #REF! | L39: =+I38/D10-L38 -> #REF!
B41: COSECHA
B42: =+J43*D10*C42/100 -> #REF! | C42: =+TRIGO!C51 -> 8 | D42: %
I43: RINDE ESPERADO : | J43: =+TRIGO!H52 -> 45
B44: GASTOS DE ACONDICIONAMIENTO | I44: RINDE EQUILIBRIO 08-09 : | J44: 22
B45: Flete Corto | C45: =+TRIGO!C54 -> 730 | D45: $/qq. | I45: RINDE EQUILIBRIO 09-10 : | J45: =+TRIGO!H53 -> 33.094445
B46: Paritaria | C46: =+TRIGO!C55 -> 500 | D46: $/qq.
B49: GANANCIA ( rentabilidad ) | H49: =+J43*C10*(100-C42)/100-H38-(C45+C46)*J43 -> #REF! | I49: =+J43*D10*(100-C42)/100-I38-(C45+C46)*J43 -> #REF! | J49: $ /ha. | K49: =+H49/C10 -> #REF! | L49: =+I49/D10 -> #REF! | M49: =+L49/K49-1 -> #REF!
G50: en dólares : | H50: =+H49/J7 -> #REF! | I50: =+I49/J5 -> #REF! | J50: =+I50/H50-1 -> #REF! | K50: =+K49/K38 -> #REF! | L50: =+L49/L38 -> #REF!

Sheet Sj2º
B1: SOJA 2° - Margen Bruto comparativo | R1: MÁRGENES BRUTOS CON DIFERENTES NIVELES DE RENDIMIENTO
R2: Rendimiento
R3: Precio Bruto
B5: Precio Bruto | C5: =+Valores!#REF! -> #REF! | D5: =+RESUMEN!F4 -> 48000 | E5: $/qq. | F5: =+D5/C5-1 -> #REF! | H5: T.C. actual : | J5: =+RESUMEN!Q15 -> 1500 | K5: $ = 1 U$S | R5: Precio Neto
B7: GASTOS DE COMERCIALIZACIÓN | H7: T.C. año anterior : | J7: =+Valores!#REF! -> #REF! | K7: $ = 1 U$S | R7: Total G. I. y P.
B8: Flete Largo | C8: =+Valores!#REF! -> #REF! | D8: =+Valores!#REF! -> #REF! | E8: $/qq. | F8: =+D8/C8-1 -> #REF!
B9: Comisión | C9: 0.03 | D9: 0.03 | E9: % | R9: Cosecha
B10: Precio Neto | C10: =+C5*(1-C9)-C8 -> #REF! | D10: =+D5*(1-D9)-D8 -> #REF! | E10: $/qq. | F10: =+D10/C10-1 -> #REF! | R10: Flete Corto
R11: Paritaria
B13: GASTOS DE IMPLANTACIÓN Y PROTECCIÓN | E13: Precio | F13: Precio | H13: Gto ($xha) | I13: Gto ($xha) | K13: qq./ha. | L13: qq./ha. | R13: Secada
B14: Labor / Insumo | C14: Dosis/Nº | E14: 06-07 | F14: 07-08 | G14: Unidad | H14: 07-08 | I14: 08-09 | J14: % | K14: 07-08 | L14: 08-09 | M14: % | R14: Total G. A.
B15: Adherente x-trim | C15: =+Soja2º!C15 -> 1 | D15: lts./ha. | E15: =+Valores!#REF! -> #REF! | F15: =+Valores!F17 -> 45 | G15: U$S/lt. | H15: =+C15*E15*$J$7 -> #REF! | I15: =+F15*C15*$J$5 -> 67500 | J15: =+I15/H15-1 -> #REF! | K15: =+H15/$C$10 -> #REF! | L15: =+I15/$D$10 -> #REF! | M15: =+L15/K15-1 -> #REF!
B16: Glifosato 48% | C16: =+Soja2º!C17 -> 4.5 | D16: lts./ha. | E16: =+Valores!#REF! -> #REF! | F16: =+Valores!F65 -> 4.3 | G16: U$S/lt. | H16: =+C16*E16*$J$7 -> #REF! | I16: =+F16*C16*$J$5 -> 29025 | J16: =+I16/H16-1 -> #REF! | K16: =+H16/$C$10 -> #REF! | L16: =+I16/$D$10 -> #REF! | M16: =+L16/K16-1 -> #REF! | R16: Flete Largo
B17: Aceite Agrícola | C17: =+Soja2º!C16 -> 0.05 | D17: lts./ha. | E17: =+Valores!#REF! -> #REF! | F17: =+Valores!#REF! -> #REF! | G17: U$S/kg. | H17: =+C17*E17*$J$7 -> #REF! | I17: =+F17*C17*$J$5 -> #REF! | J17: =+I17/H17-1 -> #REF! | K17: =+H17/$C$10 -> #REF! | L17: =+I17/$D$10 -> #REF! | M17: =+L17/K17-1 -> #REF!
B18: Insecticida Cianex | C18: =+Soja2º!C33 -> 0 | D18: lts./ha. | E18: =+Valores!#REF! -> #REF! | F18: =+Valores!F29 -> 30.5 | G18: U$S/kg. | H18: =+C18*E18*$J$7 -> #REF! | I18: =+F18*C18*$J$5 -> 0 | J18: =+I18/H18-1 -> #REF! | K18: =+H18/$C$10 -> #REF! | L18: =+I18/$D$10 -> #REF! | M18: =+L18/K18-1 -> #REF!
B19: Insecticida Karate Zeon | C19: =+Soja2º!C25 -> 0.3 | D19: kgs./ha. | E19: =+Valores!#REF! -> #REF! | F19: =+Valores!F30 -> 21 | G19: U$S/kg. | H19: =+C19*E19*$J$7 -> #REF! | I19: =+F19*C19*$J$5 -> 9450 | J19: =+I19/H19-1 -> #REF! | K19: =+H19/$C$10 -> #REF! | L19: =+I19/$D$10 -> #REF! | M19: =+L19/K19-1 -> #REF!
B20: Fungicida Sphere Max | C20: =+Soja2º!C34 -> 0 | D20: lts./ha. | E20: =+Valores!#REF! -> #REF! | F20: =+Valores!#REF! -> #REF! | G20: U$S/kg. | H20: =+C20*E20*$J$7 -> #REF! | I20: =+F20*C20*$J$5 -> #REF! | J20: =+I20/H20-1 -> #REF! | K20: =+H20/$C$10 -> #REF! | L20: =+I20/$D$10 -> #REF! | M20: =+L20/K20-1 -> #REF! | R20: G. C. y D.
B21: Rizo Pack | C21: =+Soja2º!C36 -> 0 | D21: dosis/ha. | E21: =+Valores!#REF! -> #REF! | F21: =+Valores!F28 -> 4.5 | G21: U$S/pack | H21: =+C21*E21*$J$7 -> #REF! | I21: =+F21*C21*$J$5 -> 0 | J21: =+I21/H21-1 -> #REF! | K21: =+H21/$C$10 -> #REF! | L21: =+I21/$D$10 -> #REF! | M21: =+L21/K21-1 -> #REF!
B22: Sub-Total AGROQ. | E22: =+H22/J7 -> #REF! | F22: =+I22/J5 -> #REF! | G22: U$S/ha. | H22: =SUM(H15:H21) -> #REF! | I22: =SUM(I15:I21) -> #REF! | J22: $/ha. | K22: =SUM(K15:K21) -> #REF! | L22: =SUM(L15:L21) -> #REF! | M22: qq./ha.
B24: Sub-Total FERTILIZ. | E24: 0 | F24: 0 | G24: U$S/ha. | H24: 0 | I24: 0 | J24: $/ha. | K24: 0 | L24: 0 | M24: qq./ha.
B26: Semilla Soja | C26: =+Soja2º!C45 -> 3 | D26: kg./ha. | E26: =+Valores!#REF! -> #REF! | F26: =+Valores!F111 -> 50 | G26: U$S/kg. | H26: =+C26/50*E26*J7 -> #REF! | I26: =+C26/50*F26*J5 -> 4500 | J26: =+I26/H26-1 -> #REF! | K26: =H26/$C$10 -> #REF! | L26: =I26/$D$10 -> #REF! | M26: =+L26/K26-1 -> #REF!
B28: Pulverización Terrestre | C28: =+Soja2º!C49 -> 2 | D28: aplicaciones | E28: =+Valores!#REF! -> #REF! | F28: =+Valores!F101 -> 8 | G28: $/ha. | H28: =C28*E28 -> #REF! | I28: =+F28*C28 -> 16 | J28: =+I28/H28-1 -> #REF! | K28: =H28/$C$10 -> #REF! | L28: =I28/$D$10 -> #REF! | M28: =+L28/K28-1 -> #REF!
B29: Pulverización Aérea | C29: =+Soja2º!C50 -> 1 | D29: aplicaciones | E29: =+Valores!#REF! -> #REF! | F29: =+Valores!F100 -> 14 | G29: U$S/kg. | H29: =+E29*J7*C29 -> #REF! | I29: =+J5*F29*C29 -> 21000 | J29: =+I29/H29-1 -> #REF! | K29: =H29/$C$10 -> #REF! | L29: =I29/$D$10 -> #REF! | M29: =+L29/K29-1 -> #REF! | R29: Alquiler
B30: Siembra | C30: =+Soja2º!C48 -> 1 | D30: siembra | E30: =+Valores!#REF! -> #REF! | F30: =+Valores!F111 -> 50 | G30: U$S/kg. | H30: =+E30*J7 -> #REF! | I30: =+F30*J5 -> 75000 | J30: =+I30/H30-1 -> #REF! | K30: =H30/$C$10 -> #REF! | L30: =I30/$D$10 -> #REF! | M30: =+L30/K30-1 -> #REF! | R30: Total G.C.
B31: Sub-Total LABORES | H31: =SUM(H28:H30) -> #REF! | I31: =SUM(I28:I30) -> 96016 | J31: $/ha. | K31: =SUM(K28:K30) -> #REF! | L31: =SUM(L28:L30) -> #REF! | M31: qq./ha.
B33: Seguro Contra Riesgo Climático | C33: =+Soja2º!C53 -> 30 | D33: qq./ha | E33: =+Valores!#REF! -> #REF! | F33: =+Valores!#REF! -> #REF! | G33: % | H33: =+C33*E33*C5 -> #REF! | I33: =+F33*C33*D5 -> #REF! | J33: =+I33/H33-1 -> #REF! | K33: =H33/$C$10 -> #REF! | L33: =I33/$D$10 -> #REF! | M33: =+L33/K33-1 -> #REF! | R33: Total Gastos
B35: Total G. I. y P. | E35: =+H35/J7 -> #REF! | F35: =+I35/J5 -> #REF! | H35: =+H22+H31+H26+H33 -> #REF! | I35: =+I33+I26+I31+I22 -> #REF! | J35: =+I35/H35-1 -> #REF! | K35: =+K22+K24+K31+K26+K33 -> #REF! | L35: =+L33+L26+L31+L24+L22 -> #REF! | M35: =+L35/K35-1 -> #REF!
R36: MÁRGENES BRUTOS CON DIFERENTES NIVELES DE PRECIO
B37: COSECHA | R37: Rendimiento
B38: =+J39*D10*C38/100 -> #REF! | C38: =+Soja2º!C58 -> 8 | D38: % | R38: Precio Bruto
I39: RINDE ESPERADO : | J39: =+Soja2º!H59 -> 35 | R39: Precio Neto
B40: GASTOS DE ACONDICIONAMIENTO | I40: RINDE EQUILIBRIO 08-09 : | J40: 10
B41: Flete Corto | C41: =+Soja2º!C61 -> 700 | D41: $/qq. | I41: RINDE EQUILIBRIO 09-10 : | J41: =+Soja2º!H60 -> 12.766252 | R41: Total G. I. y P.
B42: Paritaria | C42: =+Soja2º!C62 -> 500 | D42: $/qq.
R44: Total G. A.
B45: GANANCIA ( Soja 2º sin alquiler ) | H45: =+$J$39*C10*(100-$C$38)/100-H35-($C$41+$C$42)*$J$39 -> #REF! | I45: =+$J$39*D10*(100-$C$38)/100-I35-($C$41+$C$42)*$J$39 -> #REF! | J45: $ /ha. | K45: =+H45/C10 -> #REF! | L45: =+I45/D10 -> #REF! | M45: =+L45/K45-1 -> #REF!
G46: en dólares : | H46: =+H45/J7 -> #REF! | I46: =+I45/J5 -> #REF! | J46: =+I46/H46-1 -> #REF! | K46: =+K45/(K35+K54) -> #REF! | L46: =+L45/(L35+L54) -> #REF! | R46: Flete Largo
K47: retorno en QQ.
B49: GANANCIA ( Trigo sin alquiler) | H49: =+Tr!H49 -> #REF! | I49: =+Tr!I49 -> #REF! | J49: $ /ha. | K49: =+Tr!K49 -> #REF! | L49: =+Tr!L49 -> #REF! | M49: =+L49/K49-1 -> #REF!
G50: en dólares : | H50: =+Tr!H50 -> #REF! | I50: =+Tr!I50 -> #REF! | J50: =+I50/H50-1 -> #REF! | K50: =+Tr!K50 -> #REF! | L50: =+Tr!L50 -> #REF!
...

Sheet Mz
B1: MAIZ - Margen Bruto comparativo
B5: Precio Bruto | C5: =+Valores!#REF! -> #REF! | D5: =+RESUMEN!I4 -> 28500 | E5: $/qq. | F5: =+D5/C5-1 -> #REF! | H5: T.C. actual : | J5: =+RESUMEN!Q15 -> 1500 | K5: $ = 1 U$S
B7: GASTOS DE COMERCIALIZACIÓN | H7: T.C. año anterior : | J7: =+Valores!#REF! -> #REF! | K7: $ = 1 U$S
B8: Flete Largo | C8: =+Valores!#REF! -> #REF! | D8: =+Valores!#REF! -> #REF! | E8: $/qq. | F8: =+D8/C8-1 -> #REF!
B9: Comisión | C9: 0.035 | D9: 0.035 | E9: %
B10: Precio Neto | C10: =+C5*(1-C9)-C8 -> #REF! | D10: =+D5*(1-D9)-D8 -> #REF! | E10: $/qq. | F10: =+D10/C10-1 -> #REF!
B13: GASTOS de IMPLANTACIÓN y PROTECCIÓN | E13: Pcio u$s | F13: Pcio u$s | H13: Gto ($xha) | I13: Gto ($xha) | K13: qq./ha. | L13: qq./ha.
B14: Labor / Insumo | C14: Dosis / Nº | E14: 06-07 | F14: 07-08 | G14: Unidad | H14: 07-08 | I14: 08-09 | J14: % | K14: 07-08 | L14: 08-09 | M14: %
B15: Agroq. Adherente | C15: =+'MAIZ 1º'!C15 -> 1 | D15: lts./ha. | E15: =+Valores!#REF! -> #REF! | F15: =+Valores!F17 -> 45 | G15: u$s | H15: =+E15*C15*$J$7 -> #REF! | I15: =+F15*C15*$J$5 -> 67500 | J15: =+I15/H15-1 -> #REF! | K15: =H15/$C$10 -> #REF! | L15: =I15/$D$10 -> #REF! | M15: =+L15/K15-1 -> #REF!
B16: Agroq. Herbicida Glifosato | C16: =+'MAIZ 1º'!C16 -> 0.2 | D16: lts./ha. | E16: =+Valores!#REF! -> #REF! | F16: =+Valores!F65 -> 4.3 | G16: u$s | H16: =+E16*C16*$J$7 -> #REF! | I16: =+F16*C16*$J$5 -> 1290 | J16: =+I16/H16-1 -> #REF! | K16: =H16/$C$10 -> #REF! | L16: =I16/$D$10 -> #REF! | M16: =+L16/K16-1 -> #REF! | S16: Cipermetrina 25% | T16: 100 | U16: cc./ha. | V16: =+Valores!#REF! -> #REF! | W16: =+Valores!#REF! -> #REF! | X16: u$s
B17: Agroq. Herbicida Metsulfurón Metil | C17: =+'MAIZ 1º'!C19 -> 1.7 | D17: kgs./ha. | E17: =+Valores!#REF! -> #REF! | F17: =+Valores!F56 -> 36.6 | G17: u$s | H17: =+E17*C17*$J$7 -> #REF! | I17: =+F17*C17*$J$5 -> 93330 | J17: =+I17/H17-1 -> #REF! | K17: =H17/$C$10 -> #REF! | L17: =I17/$D$10 -> #REF! | M17: =+L17/K17-1 -> #REF! | S17: Curasemilla Semevin | T17: 300 | U17: gr./ha. | V17: =+Valores!#REF! -> #REF! | W17: =+Valores!F25 -> 5.44 | X17: u$s | Y17: =T17*V17*J7/1000 -> #REF! | Z17: =T17*W17*I5 -> 0 | AA17: =+Z17/Y17-1 -> #REF! | AB17: =Y17/$C$10 -> #REF! | AC17: =Z17/$D$10 -> #REF! | AD17: =+AC17/AB17-1 -> #REF!
B18: Agroq. Herbicida Atrazina | C18: =+'MAIZ 1º'!C20 -> 4 | D18: lts./ha. | E18: =+Valores!#REF! -> #REF! | F18: =+Valores!#REF! -> #REF! | G18: u$s | H18: =+E18*C18*$J$7 -> #REF! | I18: =+F18*C18*$J$5 -> #REF! | J18: =+I18/H18-1 -> #REF! | K18: =H18/$C$10 -> #REF! | L18: =I18/$D$10 -> #REF! | M18: =+L18/K18-1 -> #REF! | S18: Curasemillas Vitavax | T18: 50 | U18: gr./ha. | V18: =+Valores!#REF! -> #REF! | W18: =+Valores!#REF! -> #REF! | X18: u$s | Y18: =T18*V18*J7/1000 -> #REF! | Z18: =T18*W18*I5 -> #REF! | AA18: =+Z18/Y18-1 -> #REF! | AB18: =Y18/$C$10 -> #REF! | AC18: =Z18/$D$10 -> #REF! | AD18: =+AC18/AB18-1 -> #REF!
B19: Agroq. Herbicida Dual Gold | C19: =+'MAIZ 1º'!C33 -> 0 | D19: lts./ha. | E19: =+Valores!#REF! -> #REF! | F19: =+Valores!#REF! -> #REF! | G19: u$s | H19: =+E19*C19*$J$7 -> #REF! | I19: =+F19*C19*$J$5 -> #REF! | J19: =+I19/H19-1 -> #REF! | K19: =H19/$C$10 -> #REF! | L19: =I19/$D$10 -> #REF! | M19: =+L19/K19-1 -> #REF!
B20: Agroq. Herbicida Karate Zeón | C20: 0 | D20: kgs./ha. | E20: =+Valores!#REF! -> #REF! | F20: =+Valores!F30 -> 21 | G20: u$s | H20: =+E20*C20*$J$7 -> #REF! | I20: =+F20*C20*$J$5 -> 0 | J20: =+I20/H20-1 -> #REF! | K20: =H20/$C$10 -> #REF! | L20: =I20/$D$10 -> #REF! | M20: =+L20/K20-1 -> #REF!
B21: Sub-Total AGROQUIMICOS | E21: =+H21/$J$7 -> #REF! | F21: =+I21/$J$5 -> #REF! | G21: U$S/ha. | H21: =SUM(H15:H20) -> #REF! | I21: =SUM(I15:I20) -> #REF! | J21: $/ha. | K21: =SUM(K15:K20) -> #REF! | L21: =SUM(L15:L20) -> #REF! | M21: =+L21/K21-1 -> #REF!
B23: MAP-S | C23: =+'MAIZ 1º'!C36 -> 250 | D23: kg./ha. | E23: =+Valores!#REF! -> #REF! | F23: =+Valores!F12 -> 1040 | G23: u$s | H23: =+E23*C23*$J$7/1000 -> #REF! | I23: =+F23*C23*$J$5/1000 -> 390000 | J23: =+I23/H23-1 -> #REF! | K23: =H23/$C$10 -> #REF! | L23: =I23/$D$10 -> #REF! | M23: =+L23/K23-1 -> #REF!
B24: Urea | C24: =+'MAIZ 1º'!C37 -> 0 | D24: kg./ha. | E24: =+Valores!#REF! -> #REF! | F24: =+Valores!F11 -> 970 | G24: u$s | H24: =+E24*C24*$J$7/1000 -> #REF! | I24: =+F24*C24*$J$5/1000 -> 0 | J24: =+I24/H24-1 -> #REF! | K24: =H24/$C$10 -> #REF! | L24: =I24/$D$10 -> #REF! | M24: =+L24/K24-1 -> #REF!
B25: Sub-Total FERTILIZANTES | E25: =+H25/$J$7 -> #REF! | F25: =+I25/$J$5 -> 260 | G25: U$S/ha. | H25: =SUM(H23:H24) -> #REF! | I25: =SUM(I23:I24) -> 390000 | J25: $/ha. | K25: =SUM(K23:K24) -> #REF! | L25: =SUM(L23:L24) -> #REF! | M25: =+L25/K25-1 -> #REF!
B27: Semilla (Híbrido Simple) | C27: =+'MAIZ 1º'!C41 -> 1 | D27: bolsa/ha. | E27: =+Valores!#REF! -> #REF! | F27: =+Valores!F89 -> 190 | G27: u$s/ha. | H27: =+E27*C27*$J$7 -> #REF! | I27: =+F27*C27*$J$5 -> 285000 | J27: =+I27/H27-1 -> #REF! | K27: =H27/$C$10 -> #REF! | L27: =I27/$D$10 -> #REF! | M27: =+L27/K27-1 -> #REF!
B29: Siembra c/Fertilización Simple | C29: =+'MAIZ 1º'!C44 -> 1 | D29: siembra | E29: =+Valores!#REF! -> #REF! | F29: =+Valores!F110 -> 55 | G29: $/ha. | H29: =C29*E29 -> #REF! | I29: =C29*F29 -> 55 | J29: =+I29/H29-1 -> #REF! | K29: =H29/$C$10 -> #REF! | L29: =I29/$D$10 -> #REF! | M29: =+L29/K29-1 -> #REF!
B30: Fertilización al Voleo | C30: =+'MAIZ 1º'!C46 -> 3 | D30: Aplicación | E30: =+Valores!#REF! -> #REF! | F30: =+Valores!F99 -> 14 | G30: $/ha. | H30: =C30*E30 -> #REF! | I30: =C30*F30 -> 42 | J30: =+I30/H30-1 -> #REF! | K30: =H30/$C$10 -> #REF! | L30: =I30/$D$10 -> #REF! | M30: =+L30/K30-1 -> #REF!
B31: Pulverización Terrestre | C31: =+'MAIZ 1º'!C47 -> 0 | D31: aplicaciones | E31: =+Valores!#REF! -> #REF! | F31: =+Valores!F101 -> 8 | G31: $/ha. | H31: =C31*E31 -> #REF! | I31: =C31*F31 -> 0 | J31: =+I31/H31-1 -> #REF! | K31: =H31/$C$10 -> #REF! | L31: =I31/$D$10 -> #REF! | M31: =+L31/K31-1 -> #REF!
B32: Sub-Total LABORES | E32: =+H32/$J$7 -> #REF! | F32: =+I32/$J$5 -> 0.064666667 | G32: U$S/ha. | H32: =SUM(H29:H31) -> #REF! | I32: =SUM(I29:I31) -> 97 | J32: $/ha. | K32: =SUM(K29:K31) -> #REF! | L32: =SUM(L29:L31) -> #REF! | M32: =+L32/K32-1 -> #REF!
B34: Seguro Contra Riesgo Climático | C34: =+'MAIZ 1º'!C50 -> 80 | D34: qq./ha | E34: =+Valores!#REF! -> #REF! | F34: =+Valores!#REF! -> #REF! | G34: % | H34: =+E34*C34*C10 -> #REF! | I34: =+F34*C34*D10 -> #REF! | J34: =+I34/H34-1 -> #REF! | K34: =H34/$C$10 -> #REF! | L34: =I34/$D$10 -> #REF! | M34: =+L34/K34-1 -> #REF!
B36: Total G. I. y P. | E36: =+H36/J7 -> #REF! | F36: =+I36/J5 -> #REF! | G36: =+F36/E36-1 -> #REF! | H36: =+H21+H25+H27+H32+H34 -> #REF! | I36: =+I21+I25+I27+I32+I34 -> #REF! | J36: =+I36/H36-1 -> #REF! | K36: =+K21+K25+K27+K32+K34 -> #REF! | L36: =+L21+L25+L27+L32+L34 -> #REF! | M36: =+L36/K36-1 -> #REF!
B39: GASTOS de COSECHA
B40: =+J40*D10*C40/100 -> #REF! | C40: =+'MAIZ 1º'!C56 -> 8 | D40: % | I40: RINDE ESPERADO : | J40: =+'MAIZ 1º'!H56 -> 115
I41: RINDE EQUILIBRIO 07-08 : | J41: 79
B42: GASTOS de ACONDICIONAMIENTO | I42: RINDE EQUILIBRIO 08-09 : | J42: =+'MAIZ 1º'!H57 -> 94.997465
B43: Flete Corto | C43: =+'MAIZ 1º'!C59 -> 500 | D43: $/qq.
B44: Paritaria | C44: =+'MAIZ 1º'!C60 -> 500 | D44: $/qq.
B47: ALQUILER | K47: en qq. Maíz
E48: =+F48 -> 17 | F48: =+'MAIZ 1º'!C64 -> 17 | G48: qq.x/ha. | H48: =+E48*Sj1º!C5 -> #REF! | I48: =+F48*Sj1º!D5 -> 816000 | J48: $ /ha. | K48: =+H48/C10 -> #REF! | L48: =+I48/D10 -> #REF! | M48: =+L48/K48-1 -> #REF!
G49: en dólares : | H49: =+H48/J7 -> #REF! | I49: =+I48/J5 -> 544 | J49: =+I49/H49-1 -> #REF!
K51: en qq. Maíz
B52: GANANCIA ( rentabilidad ) : | F52: =I52/(I48+I36) -> #REF! | H52: =$J$40*C10*(100-$C$40)/100-H36-H48-($C$43+$C$44)*$J$40 -> #REF! | I52: =$J$40*D10*(100-$C$40)/100-I36-I48-($C$43+$C$44)*$J$40 -> #REF! | J52: $ /ha. | K52: =+H52/C10 -> #REF! | L52: =+I52/D10 -> #REF! | M52: =+L52/K52-1 -> #REF!
G53: en dólares : | H53: =+H52/J7 -> #REF! | I53: =+I52/J5 -> #REF! | J53: =+I53/H53-1 -> #REF!

Sheet Sj1º
B1: SOJA 1° - Margen Bruto comparativo | N1: MÁRGENES BRUTOS CON DIFERENTES NIVELES DE RENDIMIENTO
N2: Rendimiento
N4: Precio Bruto
B5: Precio Bruto | C5: =+Valores!#REF! -> #REF! | D5: =+RESUMEN!F4 -> 48000 | E5: $/qq. | F5: =+D5/C5-1 -> #REF! | H5: T.C. actual : | J5: =+RESUMEN!Q15 -> 1500 | K5: $ = 1 U$S | N5: Precio Neto
B7: GASTOS DE COMERCIALIZACIÓN | H7: T.C. año anterior : | J7: =+Valores!#REF! -> #REF! | K7: $ = 1 U$S | N7: Total G. I. y P.
B8: Flete Largo | C8: =+Valores!#REF! -> #REF! | D8: =+Valores!#REF! -> #REF! | E8: $/qq. | F8: =+D8/C8-1 -> #REF!
B9: Comisión | C9: 0.03 | D9: 0.03 | E9: % | N9: Cosecha
B10: Precio Neto | C10: =+C5*(1-C9)-C8 -> #REF! | D10: =+D5*(1-D9)-D8 -> #REF! | E10: $/qq. | F10: =+D10/C10-1 -> #REF! | N10: Flete Corto
N11: Paritaria
B13: GASTOS DE IMPLANTACIÓN Y PROTECCIÓN | E13: Precio | F13: Precio | H13: Gto ($xha) | I13: Gto ($xha) | K13: qq./ha. | L13: qq./ha.
B14: Labor / Insumo | C14: Dosis/Nº | E14: 06-07 | F14: 07-08 | G14: Unidad | H14: 07-08 | I14: 08-09 | J14: % | K14: 07-08 | L14: 08-09 | M14: % | N14: %
B15: Agroq. Adherente x-Trim | C15: =+'SOJA 1º'!C15 -> 1 | D15: lts./ha. | E15: =+Valores!#REF! -> #REF! | F15: =+Valores!F17 -> 45 | G15: U$S/lt. | H15: =C15*E15*$J$7 -> #REF! | I15: =+F15*C15*$J$5 -> 67500 | J15: =+I15/H15-1 -> #REF! | K15: =H15/$C$10 -> #REF! | L15: =I15/$D$10 -> #REF! | M15: =+L15/K15-1 -> #REF!
B16: Agroq. Herbicida Glifosato | C16: =+'SOJA 1º'!C21 -> 0.04 | D16: lts./ha. | E16: =+Valores!#REF! -> #REF! | F16: =+Valores!F65 -> 4.3 | G16: U$S/lt. | H16: =C16*E16*$J$7 -> #REF! | I16: =+F16*C16*$J$5 -> 258 | J16: =+I16/H16-1 -> #REF! | K16: =H16/$C$10 -> #REF! | L16: =I16/$D$10 -> #REF! | M16: =+L16/K16-1 -> #REF!
B17: Agroq. Herbicida Metsulfurón Metil | C17: =+'SOJA 1º'!C29 -> 0 | D17: lts./ha. | E17: =+Valores!#REF! -> #REF! | F17: =+Valores!F56 -> 36.6 | G17: U$S/kg. | H17: =C17*E17*$J$7 -> #REF! | I17: =+F17*C17*$J$5 -> 0 | J17: =+I17/H17-1 -> #REF! | K17: =H17/$C$10 -> #REF! | L17: =I17/$D$10 -> #REF! | M17: =+L17/K17-1 -> #REF!
B18: Agroq. Fungicida Amistar | C18: =+'SOJA 1º'!C40 -> 0 | D18: lts./ha. | E18: =+Valores!#REF! -> #REF! | F18: =+Valores!F68 -> 7.8 | G18: U$S/kg. | H18: =C18*E18*$J$7 -> #REF! | I18: =+F18*C18*$J$5 -> 0 | J18: =+I18/H18-1 -> #REF! | K18: =H18/$C$10 -> #REF! | L18: =I18/$D$10 -> #REF! | M18: =+L18/K18-1 -> #REF!
B19: Agroq. Insecticida Cianex | C19: =+'SOJA 1º'!C35 -> 0 | D19: lts./ha. | E19: =+Valores!#REF! -> #REF! | F19: =+Valores!F29 -> 30.5 | G19: U$S/lt. | H19: =C19*E19*$J$7 -> #REF! | I19: =+F19*C19*$J$5 -> 0 | J19: =+I19/H19-1 -> #REF! | K19: =H19/$C$10 -> #REF! | L19: =I19/$D$10 -> #REF! | M19: =+L19/K19-1 -> #REF!
B20: Agroq. Insecticida Curasemillas + Inoculante | C20: =+'SOJA 1º'!C44 -> 0 | D20: dosis/ha. | E20: =+Valores!#REF! -> #REF! | F20: =+Valores!F28 -> 4.5 | G20: U$S/pack | H20: =C20*E20*$J$7 -> #REF! | I20: =+F20*C20*$J$5 -> 0 | J20: =+I20/H20-1 -> #REF! | K20: =H20/$C$10 -> #REF! | L20: =I20/$D$10 -> #REF! | M20: =+L20/K20-1 -> #REF!
B21: Sub-Total AGROQ. | E21: =+H21/$J$7 -> #REF! | F21: =+I21/$J$5 -> 45.172 | G21: U$S/ha. | H21: =SUM(H15:H20) -> #REF! | I21: =SUM(I15:I20) -> 67758 | J21: $/ha. | K21: =SUM(K15:K20) -> #REF! | L21: =SUM(L15:L20) -> #REF! | M21: qq./ha.
B23: Fertilizante SPS | C23: =+'SOJA 1º'!C47 -> 70 | D23: kg./ha. | E23: =+Valores!#REF! -> #REF! | F23: =+Valores!F6 -> 430 | G23: U$S/ton. | H23: =C23*E23*$J$7/1000 -> #REF! | I23: =+F23*C23*$J$5/1000 -> 45150 | J23: =+I23/H23-1 -> #REF! | K23: =H23/$C$10 -> #REF! | L23: =I23/$D$10 -> #REF! | M23: =+L23/K23-1 -> #REF!
B24: Fertilizante Sulfato de Calcio | C24: =+'SOJA 1º'!C48 -> 0 | D24: kg./ha. | E24: 0 | F24: 0 | G24: U$S/ton. | H24: =C24*E24*$J$7/1000 -> #REF! | I24: =+F24*C24*$J$5/1000 -> 0 | J24: =+I24/H24-1 -> #REF! | K24: =H24/$C$10 -> #REF! | L24: =I24/$D$10 -> #REF! | M24: =+L24/K24-1 -> #REF!
B25: Sub-Total FERTILIZ. | E25: =+H25/$J$7 -> #REF! | F25: =+I25/$J$5 -> 30.1 | G25: U$S/ha. | H25: =SUM(H23:H24) -> #REF! | I25: =SUM(I23:I24) -> 45150 | J25: $/ha. | K25: =SUM(K23:K24) -> #REF! | L25: =SUM(L23:L24) -> #REF! | M25: qq./ha.
B27: Semilla (85 kgs. Ha.) | C27: =+'SOJA 1º'!C53 -> 2 | D27: bls./ha. | E27: =+Valores!#REF! -> #REF! | F27: =+Valores!F88 -> 38 | G27: $/qq. | H27: =+E27*C27*J7 -> #REF! | I27: =+F27*C27*J5 -> 114000 | J27: =+I27/H27-1 -> #REF! | K27: =H27/$C$10 -> #REF! | L27: =I27/$D$10 -> #REF! | M27: =+L27/K27-1 -> #REF!
B29: Siembra c/ fertilización simple | C29: =+'SOJA 1º'!C56 -> 1 | D29: siembra | E29: =+Valores!#REF! -> #REF! | F29: =+Valores!F111 -> 50 | G29: U$S/ha. | H29: =C29*E29*$J$7 -> #REF! | I29: =+F29*C29*$J$5 -> 75000 | J29: =+I29/H29-1 -> #REF! | K29: =H29/$C$10 -> #REF! | L29: =I29/$D$10 -> #REF! | M29: =+L29/K29-1 -> #REF!
B30: Pulverización Terrestre | C30: =+'SOJA 1º'!C57 -> 3 | D30: aplic. | E30: =+Valores!#REF! -> #REF! | F30: =+Valores!F101 -> 8 | G30: $/ha. | H30: =C30*E30 -> #REF! | I30: =+F30*C30 -> 24 | J30: =+I30/H30-1 -> #REF! | K30: =H30/$C$10 -> #REF! | L30: =I30/$D$10 -> #REF! | M30: =+L30/K30-1 -> #REF!
B31: Fertilización al Voleo | C31: =+'SOJA 1º'!C58 -> 1 | D31: Aplicación | E31: =+Valores!#REF! -> #REF! | F31: =+Valores!F99 -> 14 | G31: $/ha. | H31: =C31*E31 -> #REF! | I31: =+F31*C31 -> 14 | J31: =+I31/H31-1 -> #REF! | K31: =H31/$C$10 -> #REF! | L31: =I31/$D$10 -> #REF! | M31: =+L31/K31-1 -> #REF!
B32: Aplicación Aérea | C32: =+'SOJA 1º'!C59 -> 0 | D32: Aplicación | E32: =+Valores!#REF! -> #REF! | F32: =+Valores!F100 -> 14 | G32: U$S/ha. | H32: =C32*E32*$J$7 -> #REF! | I32: =+F32*C32*$J$5 -> 0 | J32: =+I32/H32-1 -> #REF! | K32: =H32/$C$10 -> #REF! | L32: =I32/$D$10 -> #REF! | M32: =+L32/K32-1 -> #REF! | N32: G. C. y D.
B33: Sub-Total LABORES | E33: =+H33/$J$7 -> #REF! | F33: =+I33/$J$5 -> 50.025333 | G33: U$S/ha. | H33: =SUM(H29:H32) -> #REF! | I33: =SUM(I29:I32) -> 75038 | J33: $/ha. | K33: =SUM(K29:K32) -> #REF! | L33: =SUM(L29:L32) -> #REF! | M33: =+L33/K33-1 -> #REF!
B35: Seguro Contra Riesgo Climático | C35: =+'SOJA 1º'!C62 -> 35 | D35: qq./ha | E35: =+Valores!#REF! -> #REF! | F35: =+Valores!#REF! -> #REF! | G35: % | H35: =C35*(E35)*C10 -> #REF! | I35: =C35*(F35)*D10 -> #REF! | J35: =+I35/H35-1 -> #REF! | K35: =H35/$C$10 -> #REF! | L35: =I35/$D$10 -> #REF! | M35: =+L35/K35-1 -> #REF!
B37: Total G. I. y P. | E37: =+H37/J7 -> #REF! | F37: =+I37/J5 -> #REF! | G37: =+F37/E37-1 -> #REF! | H37: =+H21+H25+H33+H27+H35 -> #REF! | I37: =+I21+I25+I33+I27+I35 -> #REF! | J37: =+I37/H37-1 -> #REF! | K37: =+K21+K25+K33+K27+K35 -> #REF! | L37: =+L21+L25+L33+L27+L35 -> #REF! | M37: =+L37/K37-1 -> #REF!
N38: MÁRGENES BRUTOS CON DIFERENTES NIVELES DE PRECIO
B40: COSECHA | N40: Rendimiento
B41: =+J41*D10*C41/100 -> #REF! | C41: =+'SOJA 1º'!C71 -> 7 | D41: % | I41: RINDE ESPERADO : | J41: =+'SOJA 1º'!H71 -> 45 | N41: Precio Bruto
I42: RINDE EQUILIBRIO 07-08 : | J42: 33 | N42: Precio Neto
B43: GASTOS DE ACONDICIONAMIENTO | I43: RINDE EQUILIBRIO 08-09 : | J43: =+'SOJA 1º'!H72 -> 36.765246
B44: Flete Corto | C44: =+'SOJA 1º'!C74 -> 700 | D44: $/qq. | N44: Total G. I. y P.
B45: Paritaria | C45: =+'SOJA 1º'!C75 -> 500 | D45: $/qq.
B48: ALQUILER | K48: en qq. Soja | N48: Flete Corto
E49: =+F49 -> 17 | F49: =+'SOJA 1º'!C79 -> 17 | G49: qq.x/ha. | H49: =+E49*Sj1º!C5 -> #REF! | I49: =+F49*Sj1º!D5 -> 816000 | J49: $ /ha. | K49: =+I49/D10 -> #REF! | L49: =+H49/C10 -> #REF! | M49: =+L49/K49-1 -> #REF! | N49: Paritaria
G50: en dólares : | H50: =+H49/J7 -> #REF! | I50: =+I49/J5 -> 544 | J50: =+I50/H50-1 -> #REF! | N50: Secada
K52: en qq. Soja
...

Sheet RESUMEN
A1: =IF(B1=0,"bien","MAL") -> bien | B1: =ROUND(C1,0) -> 0 | C1: =SUM('Compra Productor'!D26:J26) -> 0 | T1: Descuento s/precio (flet-comis) | V1: 0.105 | W1: Ventas
B2: Margen Bruto 26-27 | F2: Soja 1º | G2: Trigo-Soja 2da | H2: Trigo-Maíz 2da | I2: Maíz | J2: Sorgo | K2: SOJAsobreCS | L2: MAIZsobreCS | M2: Girasol | N2: Mani | O2: Camelina-Soja 2da | R2: Soja | S2: Trigo | T2: Maíz | V2: 0.105 | W2: Fertilizantes | Y2: Tipo Cambio Insumos Promedio
R3: =-(F5/F4-1) -> 0.091833333 | S3: =-(G5/G4-1) -> 0.12893651 | T3: =-(I5/I4-1) -> 0.14029825 | V3: 0.21 | W3: Agroquímicos | Y3: T.C. | Z3: u$s | AA3: Porc.
B4: Precios Pizarra | F4: =Q5*Q13 -> 48000 | G4: =Q7*Q13 -> 31500 | H4: =+G4 -> 31500 | I4: =Q6*Q13 -> 28500 | J4: =Q8*Q13 -> 28500 | K4: =Q5*Q13 -> 48000 | L4: =Q6*Q13 -> 28500 | M4: =Q9*Q13 -> 60000 | N4: =Q11*Q13 -> 90300 | O4: =Q10*Q13 -> 76500 | Q4: u$s | Y4: 28.5 | Z4: =(380000/1.18)/Y4 -> 11299.435 | AA4: =+Z4/Z8 -> 0.56497175
D5: (precio con descuentos) | F5: =+'SOJA 1º'!D10 -> 43592 | G5: =+TRIGO!D10 -> 27438.5 | H5: =+G5 -> 27438.5 | I5: =+'MAIZ 1º'!D10 -> 24501.5 | J5: =SORGO!D10 -> 24501.5 | K5: =+SOJAsobreCS!$D$10 -> 43592 | L5: =+MAIZsobreCS!$D$10 -> 24501.5 | M5: =+GIRASOL!$D$10 -> 55340 | N5: =+MANI!D10 -> 85003.7 | O5: =+Camelina!$D$10 -> 71493.5 | Q5: 32 | R5: soja forward | W5: 46 | Y5: =+Q13 -> 1500 | Z5: =20000-Z4 -> 8700.565 | AA5: =+Z5/Z$8 -> 0.43502825
B6: Rinde de Indiferencia (equilibrio) | F6: =+'SOJA 1º'!H72 -> 36.765246 | G6: =+TRIGO!H53 -> 33.094445 | H6: =+TRIGO!H53 -> 33.094445 | I6: =+'MAIZ 1º'!H57 -> 94.997465 | J6: =SORGO!H57 -> 68.744655 | K6: =+SOJAsobreCS!H71 -> 39.662374 | L6: =+MAIZsobreCS!H60 -> 58.204658 | M6: =+GIRASOL!H62 -> 30.638232 | N6: =+MANI!H70 -> 22.624069 | O6: =+Camelina!$H$54 -> 7.444844 | Q6: 19 | R6: maíz forward | Y6: 0 | Z6: 0 | AA6: =+Z6/Z$8 -> 0
G7: =+Soja2º!H60 -> 12.766252 | H7: =+'Maíz 2º'!H49 -> 47.221315 | O7: =+Soja2º!H60 -> 12.766252 | Q7: 21 | R7: trigo forward | Y7: 0 | Z7: 0 | AA7: =+Z7/Z$8 -> 0
B8: Rinde esperado (qq. x ha.) | F8: 45 | G8: 45 | H8: =+G8 -> 45 | I8: 115 | J8: 70 | K8: 45 | L8: 90 | M8: 32 | N8: 35 | O8: 11 | Q8: 19 | R8: Sorgo forwad | Y8: =+Y5*AA5+Y4*AA4+Y6*AA6+Y7*AA7 -> 668.64407 | Z8: =SUM(Z4:Z5) -> 20000
G9: 35 | H9: 75 | O9: 40 | Q9: 40 | R9: girasol forward | T9: =+I4/F4 -> 0.59375 | U9: Relación Maíz/Soja
B10: Alquiler | D10: 17 | E10: qq. llenos | F10: =+$D$10*$F$4/F5 -> 18.719031 | G10: =+$D$10*$F$4/G5 -> 29.739235 | H10: =+$D$10*$F$4/H5 -> 29.739235 | I10: =+$D$10*$F$4/I5 -> 33.304083 | J10: =+$D$10*$F$4/J5 -> 33.304083 | K10: =+$D$10*$F$4/K5 -> 18.719031 | L10: =+$D$10*$F$4/L5 -> 33.304083 | M10: =+$D$10*$F$4/M5 -> 14.745211 | ... O10: =+$D$10*$F$4/O5 -> 11.413625 | Q10: =(430+80)/10 -> 51 | R10: Camelina forwad | T10: =+I5/F5 -> 0.56206414 | U10: Relación Maíz/Soja | Y10: Precio Venta Promedio
D11: ( alquiler en dólares ) | F11: =+D10*F4/Q15 -> 544 | G11: =+F11 -> 544 | H11: =+G11 -> 544 | I11: =+G11 -> 544 | J11: =+H11 -> 544 | K11: =+$G$11 -> 544 | L11: =+$G$11 -> 544 | M11: =+$G$11 -> 544 | N11: =+G11 -> 544 | O11: =+N11 -> 544 | Q11: 60.2 | R11: mani forward | T11: =+G4/F4 -> 0.65625 | U11: Relación Trigo/Soja | Y11: Pcio. | Z11: QQ. | AA11: Porc.
D12: interés financiación (qq.): | E12: 0 | F12: =+F10*$E$12 -> 0 | G12: =+F12 -> 0 | I12: =+E12*I10 -> 0 | J12: =+F12*J10 -> 0 | K12: =+K10*$E$12 -> 0 | L12: =+L10*$E$12 -> 0 | M12: =+M10*$E$12 -> 0 | N12: =+N10*$E$12 -> 0 | O12: =+N12 -> 0 | T12: =+G5/F5 -> 0.62943889 | U12: Relación Trigo/Soja | X12: Venta Productor | Y12: 1007 | Z12: 1500 | AA12: =+Z12/Z$18 -> 0.66666667 | AB12: =+Y12*Z12 -> 1510500
B13: Costos Implantación (u$s) * | F13: =SUMIF('SOJA 1º'!$B:$B,"Total G. I. y P.",'SOJA 1º'!$E:$E) -> 422.30242 | G13: =+TRIGO!E47+Soja2º!E55 -> 863.9062 | H13: =+TRIGO!E47+'Maíz 2º'!E44 -> 1206.8457 | I13: =SUMIF('MAIZ 1º'!$B:$B,"Total G. I. y P.",'MAIZ 1º'!$E:$E) -> 825.31752 | J13: =SUMIF(SORGO!$B:$B,"Total G. I. y P.",SORGO!$E:$E) -> 489.06626 | K13: =SUMIF(SOJAsobreCS!$B:$B,"Total G. I. y P.",SOJAsobreCS!$E:$E) -> 514.36242 | L13: =+MAIZsobreCS!E55 -> 789.57486 | M13: =SUMIF(GIRASOL!$B:$B,"Total G. I. y P.",GIRASOL!$E:$E) -> 495.9188 | N13: =SUMIF(MANI!$B:$B,"Total G. I. y P.",MANI!$E:$E) -> 634.34 | O13: =Camelina!$E$49+Soja2º!E55 -> 644.186 | Q13: 1500 | R13: Dólar Forward | X13: Venta Productor | Y13: 0 | Z13: 0 | AA13: =+Z13/Z$18 -> 0 | AD13: Brecha Cambiaria
D14: en quintales | F14: =+F13/F5*Q15 -> 14.531419 | G14: =+G13/F5*Q15 -> 29.726998 | H14: =+H13/H5*Q15 -> 65.975494 | I14: =+I13/I5*Q15 -> 50.526551 | J14: =+J13/J5*Q15 -> 29.940999 | K14: =+K13/K5*$Q$15 -> 17.699203 | L14: =+L13/L5*$Q$15 -> 48.338359 | M14: =+M13/M5*$Q$15 -> 13.441962 | N14: =+N13/N5*$Q$15 -> 11.193748 | O14: =+O13/F5*Q15 -> 22.16643 | Q14: 3400 | R14: Flete 26-27 (por qq.) | X14: Venta Productor | Y14: 0 | Z14: 0 | AA14: =+Z14/Z$18 -> 0
D15: interés financiación (u$s): | E15: 0 | F15: =+F13*E15 -> 0 | G15: =+E15*G13 -> 0 | H15: =+E15*H13 -> 0 | I15: =+$E$15*I13 -> 0 | J15: =+$E$15*J13 -> 0 | K15: =+$E$15*K13 -> 0 | L15: =+$E$15*L13 -> 0 | M15: =+$E$15*M13 -> 0 | N15: =+$E$15*N13 -> 0 | O15: =+E15*O13 -> 0 | Q15: 1500 | R15: Dólar insumos | X15: Venta Productor | Y15: 0 | Z15: 0 | AA15: =+Z15/Z$18 -> 0
E16: Ganancia Bruta en u$s : | F16: =+'Compra Productor'!D25 -> 213.91438 | G16: =+'Compra Productor'!F25 -> 220.27133 | H16: =+'Compra Productor'!H25 -> 36.62588 | I16: =+'Compra Productor'!J25 -> 282.18828 | J16: ='Compra Productor'!L25 -> 18.864807 | K16: =+'Compra Productor'!N25 -> 142.22678 | L16: =+'Compra Productor'!P25 -> 19.358387 | M16: =+'Compra Productor'!R25 -> 46.220933 | N16: =+'Compra Productor'!T25 -> 644.42276 | O16: =+'Compra Productor'!V25 -> 310.64245 | Q16: 18000 | R16: Pcio. Ha. (en u$S) | X16: Alquileres | Y16: =+Q5*Q13 -> 48000 | Z16: 1842 | AA16: =+Z16/Z$18 -> 0.81866667 | AB16: =+Y16*Z16 -> 88416000
E17: Gcia. en QQ. Soja (por cultivo) : | F17: =+F16*$Q$15/$F$5 -> 7.3607901 | G17: =+G16*$Q$15/$F$5 -> 7.5795329 | H17: =+H16*$Q$15/$F$5 -> 1.2602959 | I17: =+I16*$Q$15/$F$5 -> 9.7100941 | J17: =+J16*$Q$15/$F$5 -> 0.64913769 | K17: =+K16*$Q$15/$F$5 -> 4.894021 | L17: =+L16*$Q$15/$F$5 -> 0.66612179 | M17: =+M16*$Q$15/$F$5 -> 1.5904616 | ... O17: =+O16*$Q$15/$F$5 -> 10.689202 | Q17: =(AVERAGE(F16:I16)+AVERAGE(F11:I11))/(Q16*(1+AC13)) -> 0.040680554 | R17: rentabilidad campo propio | X17: Trilla | Y17: =+Y16 -> 48000 | Z17: =+Z18*0.09 -> 202.5 | AB17: =+Y17*Z17 -> 9720000
E18: rentabilidad : | F18: =IF($D10=0,(F16/($Q$16*(1+$AC$13))),(F16/(F11+F13))) -> 0.22137415 | G18: =IF($D10=0,(G16/($Q$16*(1+$AC$13))),(G16/(G11+G13))) -> 0.15645313 | H18: =IF($D10=0,(H16/($Q$16*(1+$AC$13))),(H16/(H11+H13))) -> 0.020918965 | I18: =IF($D10=0,(I16/($Q$16*(1+$AC$13))),(I16/(I11+I13))) -> 0.20607951 | J18: =IF($D10=0,(J16/($Q$16*(1+$AC$13))),(J16/(J11+J13))) -> 0.018260984 | K18: =IF($D10=0,(K16/($Q$16*(1+$AC$13))),(K16/(K11+K13))) -> 0.13438381 | L18: =IF($D10=0,(L16/($Q$16*(1+$AC$13))),(L16/(L11+L13))) -> 0.014516161 | M18: =IF($D10=0,(M16/($Q$16*(1+$AC$13))),(M16/(M11+M13))) -> 0.044446675 | ... O18: =IF($D10=0,(O16/($Q$16*(1+$AC$13))),(O16/(O11+O13))) -> 0.26144261 | Q18: =+F11/Q16 -> 0.030222222 | R18: rentabilidad campo alquilado | X18: Producción Total | Z18: =+F8*F78 -> 2250
F19: =+F18/10*12 -> 0.26564898 | G19: =+G18/10*12 -> 0.18774376 | H19: =+H18/10*12 -> 0.025102758 | I19: =+I18/10*12 -> 0.24729541 | J19: =+J18/10*12 -> 0.021913181 | K19: =+K18/10*12 -> 0.16126057 | L19: =+L18/10*12 -> 0.017419393 | M19: =+M18/10*12 -> 0.05333601 | ... O19: =+O18/10*12 -> 0.31373114 | X19: Remanente de Vender | Y19: =+Y17 -> 48000 | Z19: =Z18-SUM(Z12:Z17) -> -1294.5 | AB19: =+Y19*Z19 -> -62136000
E20: Gcia. Bta. c/ Rotación en u$s : | F20: =SUM(F16:I16)/3 -> 250.99996 | G20: U$S año(promedio 3 años) | O20: U$S año(promedio 3 años) | Q20: =+I16/F16-1 -> 0.31916464 | R20: =IF(Q20>0,"a favor Maíz","en contra Maíz") -> a favor Maíz | Y20: =+AB20/Z20 -> 16671.333 | Z20: =+Z18 -> 2250 | AB20: =SUM(AB12:AB19) -> 37510500
D21: renta (prom.) en QQ: | E21: =+F20/F5*'SOJA 1º'!G6 -> 8.6369044 | F21: =F20/(SUM(F11:I13)/3) -> 0.13704931 | G21: rentabilidad promedio | O21: rentabilidad promedio | Q21: =+G16/F16-1 -> 0.029717298 | R21: =IF(Q21>0,"a favor Trigo","en contra Trigo") -> a favor Trigo
E23: para lograr una rentabilidad de : | F23: 0.3 | G23: =+F23 -> 0.3 | H23: =+F23 -> 0.3 | I23: =+F23 -> 0.3 | J23: =+F23 -> 0.3 | K23: =+F23 -> 0.3 | L23: =+F23 -> 0.3 | M23: =+F23 -> 0.3 | N23: =+F23 -> 0.3 | O23: =+F23 -> 0.3
E24: ALQUILER en qq. de Soja : | F24: =D10-((F23-F18)*(F11+F13)/(1+F23)*Q15/F4) -> 15.173645 | G24: =D10-((G23-G18)*(G11+G13)/(1+G23)*Q15/F4) -> 12.141814 | H24: =D10-((H23-H18)*(H11+H13)/(1+H23)*Q15/F4) -> 5.2541386 | I24: =$D$10-((I23-I18)*(I11+I13)/(1+I23)*$Q$15/$F$4) -> 13.908486 | J24: =$D$10-((J23-J18)*(J11+J13)/(1+J23)*$Q$15/$F$4) -> 10.003484 | K24: =$D$10-((K23-K18)*(K11+K13)/(1+K23)*$Q$15/$F$4) -> 12.786492 | L24: =$D$10-((L23-L18)*(L11+L13)/(1+L23)*$Q$15/$F$4) -> 7.8482194 | M24: =$D$10-((M23-M18)*(M11+M13)/(1+M23)*$Q$15/$F$4) -> 10.611666 | N24: =$D$10-((N23-N18)*(N11+N13)/(1+N23)*$Q$15/$F$4) -> 23.993288 | O24: =D10-((O23-O18)*(O11+O13)/(1+O23)*Q15/F4) -> 15.898718
F25: alquiler p/ rentab. Indicada c/ rotación (33%) : | G25: =SUM(F24:I24)/3 -> 15.492695
E26: ALQUILER en qq. de cada cereal : | F26: =+F24 -> 15.173645 | G26: =+G24*F4/G4 -> 18.501812 | H26: =+H24*F4/H4 -> 8.0063064 | I26: =+I24*$F$4/$I$4 -> 23.424819 | J26: =+J24*$F$4/$J$4 -> 16.847973 | K26: =+K24*$F$4/$K$4 -> 12.786492 | L26: =+L24*$F$4/$L$4 -> 13.218054 | M26: =+M24*$F$4/$M$4 -> 8.4893326 | N26: =+N24*$F$4/$N$4 -> 12.753907 | O26: =+O24*F4/O4 -> 9.975666
F27: Soja | G27: Trigo | H27: Trigo | I27: Maíz | J27: Sorgo | K27: =+K2 -> SOJAsobreCS | L27: =+L2 -> MAIZsobreCS | M27: Girasol | N27: Mani | O27: Camelina
E28: diferencia Rotac. vs. Soja 1º : | F28: =+F16-F20 -> -37.08558 | G28: dólares por ha. | O28: dólares por ha.
F29: =+F28*Q15/F5 -> -1.2761142 | G29: quintales año menos | O29: quintales año menos
Q30: 24500
C31: RENTABILIDAD PRODUCTOR (x Ha.)
E32: en u$s | F32: =+F17 -> 7.3607901 | G32: =+G17 -> 7.5795329 | H32: =+H17 -> 1.2602959 | I32: =+I17 -> 9.7100941 | J32: =+J17 -> 0.64913769 | K32: =+K17 -> 4.894021 | L32: =+L17 -> 0.66612179 | M32: =+M17 -> 1.5904616 | ... O32: =+O17 -> 10.689202
C34: RENTABILIDAD ARRENDADOR (x Ha.)
E35: en u$s | F35: =+F11 -> 544 | G35: =+F35 -> 544 | H35: =+G35 -> 544 | I35: =+G35 -> 544 | J35: =+H35 -> 544 | K35: =+H35 -> 544 | L35: =+I35 -> 544 | M35: =+K35 -> 544 | N35: =+L35 -> 544 | O35: =+N35 -> 544
C37: RENTABILIDAD GOBIERNO (x Ha.)
E38: Retenciones Exportaciones : | F38: =+'Compra Productor'!E17/(1-F40)*F40 -> 1041539.1 | G38: =+'Compra Productor'!G17/(1-G40)*G40+'Compra Productor'!G18/(1-F40)*F40 -> 999322.22 | H38: =+'Compra Productor'!I17/(1-H40)*H40+'Compra Productor'!I18/(1-G40)*G40 -> 474592.5 | I38: =+'Compra Productor'!K17/(1-I40)*I40 -> 437546.25 | J38: =+'Compra Productor'!N17/(1-J40)*J40 -> 192.24 | K38: =+'Compra Productor'!O17/(1-K40)*K40 -> 1041539.1 | L38: =+'Compra Productor'!Q17/(1-L40)*L40 -> 342427.5 | M38: =+'Compra Productor'!S17/(1-M40)*M40 -> 141481.29 | N38: =+'Compra Productor'!U17/(1-N40)*N40 -> 120550.5 | O38: =+'Compra Productor'!P17/(1-O40)*O40+'Compra Productor'!P18/(1-N40)*N40 -> 228.285
E39: en dólares | F39: =+F38/$Q$15 -> 694.3594 | G39: =+G38/$Q$15 -> 666.21481 | H39: =+H38/$Q$15 -> 316.395 | I39: =+I38/$Q$15 -> 291.6975 | J39: =+J38/$Q$15 -> 0.12816 | K39: =+K38/$Q$15 -> 694.3594 | L39: =+L38/$Q$15 -> 228.285 | M39: =+M38/$Q$15 -> 94.32086 | ... O39: =+O38/$Q$15 -> 0.15219
F40: 0.33 | G40: 0.12 | H40: 0.12 | I40: 0.12 | J40: 0.12 | K40: 0.33 | L40: 0.12 | M40: 0.07 | N40: 0.0375 | O40: 0.12
N41: =10*26000 -> 260000 | O41: =4*60000 -> 240000
B42: APROVECHAMIENTO del RECURSO CAMPO (con la debida rotación)
C43: u$s | D43: . | E43: . | G43: Imp. Gcia. | I43: Neto | J43: Neto | M43: Neto | N43: Neto | O43: Imp. Gcia.
...

Sheet Compra Productor
A1: Cálculo Inversión en Insumos y labores para producir
J2: =TODAY() -> 46134 | L2: =TODAY() -> 46134 | T2: =TODAY() -> 46134
C4: INVERSION x HA. | D4: Soja 1º | F4: Trigo-Soja | H4: Trigo-Maíz | J4: Maíz | L4: Sorgo | N4: SOJAsobreCS | P4: MAIZsobreCS | R4: Girasol | T4: Mani | V4: Camelina-Soja
D5: dólares | E5: pesos | F5: dólares | G5: pesos | H5: dólares | I5: pesos | J5: dólares | K5: pesos | L5: dólares | M5: pesos | N5: dólares | O5: pesos | P5: dólares | Q5: pesos | R5: dólares | S5: pesos | T5: dólares | U5: pesos | V5: dólares | W5: pesos
C6: Total x Ha.: | D6: =+RESUMEN!F13 -> 422.30242 | E6: =SUM(E7:E11) -> 633453.64 | F6: =+RESUMEN!G13 -> 863.9062 | G6: =SUM(G7:G11) -> 1295859.3 | H6: =+RESUMEN!H13 -> 1206.8457 | I6: =SUM(I7:I11) -> 1810268.6 | J6: =+RESUMEN!I13 -> 825.31752 | K6: =SUM(K7:K11) -> 1237976.3 | L6: =RESUMEN!J13 -> 489.06626 | M6: =SUM(M7:M11) -> 733599.39 | N6: =+RESUMEN!K13 -> 514.36242 | O6: =SUM(O7:O11) -> 771543.64 | P6: =+RESUMEN!L13 -> 789.57486 | Q6: =SUM(Q7:Q11) -> 1184362.3 | R6: =+RESUMEN!M13 -> 495.9188 | S6: =SUM(S7:S11) -> 743878.2 | T6: =+RESUMEN!N13 -> 634.34 | U6: =SUM(U7:U11) -> 951510 | V6: =+RESUMEN!O13 -> 644.186 | W6: =SUM(W7:W11) -> 966279
B7: Sub-Total AGROQ. | C7: Agroquímicos | D7: =+'SOJA 1º'!E45 -> 191.28 | E7: =+'SOJA 1º'!G45 -> 286920 | F7: =+TRIGO!E28+Soja2º!E37 -> 156.0152 | G7: =+TRIGO!G28+Soja2º!G37 -> 234022.8 | H7: =+TRIGO!E28+'Maíz 2º'!E26 -> 136.9352 | I7: =+TRIGO!G28+'Maíz 2º'!G26 -> 102082.8 | J7: =+'MAIZ 1º'!E34 -> 125.655 | K7: =+'MAIZ 1º'!G34 -> 188482.5 | L7: =+SORGO!E34 -> 85.585 | M7: =+SORGO!G34 -> 128377.5 | N7: =+SUMIF(SOJAsobreCS!$B:$B,$B7,SOJAsobreCS!$E:$E) -> 149.64 | O7: =+SUMIF(SOJAsobreCS!$B:$B,$B7,SOJAsobreCS!$G:$G) -> 224460 | P7: =+SUMIF(MAIZsobreCS!$B:$B,$B7,MAIZsobreCS!$E:$E) -> 105.185 | Q7: =+SUMIF(MAIZsobreCS!$B:$B,$B7,MAIZsobreCS!$G:$G) -> 157777.5 | R7: =+SUMIF(GIRASOL!$B:$B,$B7,GIRASOL!$E:$E) -> 70.91 | S7: =+SUMIF(GIRASOL!$B:$B,$B7,GIRASOL!$G:$G) -> 106365 | T7: =+SUMIF(MANI!$B:$B,$B7,MANI!$E:$E) -> 165.34 | U7: =+SUMIF(MANI!$B:$B,$B7,MANI!$G:$G) -> 248010 | V7: =Camelina!$E$30+Soja2º!E37 -> 165.925 | W7: =Camelina!G30+Soja2º!G37 -> 248887.5
B8: Sub-Total FERTILIZ. | C8: Fertilizantes | D8: =+'SOJA 1º'!E51 -> 30.1 | E8: =+'SOJA 1º'!G51 -> 45150 | F8: =+TRIGO!E34+Soja2º!E43 -> 302 | G8: =+TRIGO!G34+Soja2º!G43 -> 453000 | H8: =+TRIGO!E34+'Maíz 2º'!E31 -> 407.185 | I8: =+TRIGO!G34+'Maíz 2º'!G31 -> 610777.5 | J8: =+'MAIZ 1º'!E39 -> 363.5 | K8: =+'MAIZ 1º'!G39 -> 545250 | L8: =+SORGO!E39 -> 244.5 | M8: =+SORGO!G39 -> 366750 | N8: =+SUMIF(SOJAsobreCS!$B:$B,$B8,SOJAsobreCS!$E:$E) -> 88 | O8: =+SUMIF(SOJAsobreCS!$B:$B,$B8,SOJAsobreCS!$G:$G) -> 132000 | P8: =+SUMIF(MAIZsobreCS!$B:$B,$B8,MAIZsobreCS!$E:$E) -> 282 | Q8: =+SUMIF(MAIZsobreCS!$B:$B,$B8,MAIZsobreCS!$G:$G) -> 423000 | R8: =+SUMIF(GIRASOL!$B:$B,$B8,GIRASOL!$E:$E) -> 142.3 | S8: =+SUMIF(GIRASOL!$B:$B,$B8,GIRASOL!$G:$G) -> 213450 | T8: =+MANI!E46 -> 0 | U8: =+MANI!G46 -> 0 | V8: =+Camelina!$E$36+Soja2º!E43 -> 151 | W8: =+Camelina!G36+Soja2º!G43 -> 226500
B9: Sub-Total SEMILLAS | C9: Semillas | D9: =+'SOJA 1º'!E53*'SOJA 1º'!C53 -> 76 | E9: =+'SOJA 1º'!G53 -> 114000 | F9: =+TRIGO!E36*TRIGO!C36+Soja2º!C45*Soja2º!E45 -> 165 | G9: =+TRIGO!G36+Soja2º!G45 -> 247500 | H9: =+'Maíz 2º'!E33*'Maíz 2º'!C33+TRIGO!C36*TRIGO!E36 -> 241 | I9: =+'Maíz 2º'!G33+TRIGO!G36 -> 361500 | J9: =+'MAIZ 1º'!E43 -> 190 | K9: ='MAIZ 1º'!G41 -> 285000 | L9: =SORGO!E43 -> 59.4 | M9: =SORGO!G41 -> 89100 | N9: =SOJAsobreCS!E53 -> 141.8 | O9: =+SUMIF(SOJAsobreCS!$B:$B,$B9,SOJAsobreCS!$G:$G) -> 212700 | P9: =+MAIZsobreCS!E45 -> 236.8 | Q9: =+SUMIF(MAIZsobreCS!$B:$B,$B9,MAIZsobreCS!$G:$G) -> 355200 | R9: =+SUMIF(GIRASOL!$B:$B,$B9,GIRASOL!$E:$E) -> 82.5 | S9: =+SUMIF(GIRASOL!$B:$B,$B9,GIRASOL!$G:$G) -> 123750 | T9: =+MANI!E50 -> 225 | U9: =+SUMIF(MANI!$B:$B,$B9,MANI!$G:$G) -> 337500 | V9: =+Camelina!E40+Soja2º!E46 -> 123.9 | W9: =+Camelina!G40+Soja2º!G46 -> 185850
B10: Sub-Total LABORES | C10: Labores | D10: =+'SOJA 1º'!E60 -> 88 | E10: =+'SOJA 1º'!G60 -> 132000 | F10: =+TRIGO!E43+Soja2º!E51 -> 177 | G10: =+TRIGO!G43+Soja2º!G51 -> 265500 | H10: =+'Maíz 2º'!E40+TRIGO!E43 -> 420.4 | I10: =+'Maíz 2º'!G40+TRIGO!G43 -> 630600 | J10: =+'MAIZ 1º'!E48 -> 105 | K10: =+'MAIZ 1º'!G48 -> 157500 | L10: =+SORGO!E48 -> 138.4 | M10: =SORGO!G48 -> 118500 | N10: =+SUMIF(SOJAsobreCS!$B:$B,$B10,SOJAsobreCS!$E:$E) -> 98 | O10: =+SUMIF(SOJAsobreCS!$B:$B,$B10,SOJAsobreCS!$G:$G) -> 147000 | P10: =+MAIZsobreCS!E51 -> 127 | Q10: =+SUMIF(MAIZsobreCS!$B:$B,$B10,MAIZsobreCS!$G:$G) -> 190500 | R10: =+SUMIF(GIRASOL!$B:$B,$B10,GIRASOL!$E:$E) -> 182.5 | S10: =+SUMIF(GIRASOL!$B:$B,$B10,GIRASOL!$G:$G) -> 273750 | T10: =+SUMIF(MANI!$B:$B,$B10,MANI!$E:$E) -> 244 | U10: =+SUMIF(MANI!$B:$B,$B10,MANI!$G:$G) -> 366000 | V10: =Camelina!E45+Soja2º!E51 -> 150 | W10: =+Camelina!G45+Soja2º!G51 -> 225000
B11: Seguro Contra Riesgo Climático | C11: Seguro | D11: =+'SOJA 1º'!G62/RESUMEN!Q15 -> 36.922424 | E11: =+'SOJA 1º'!G62 -> 55383.636 | F11: =(TRIGO!G45+Soja2º!G53)/RESUMEN!Q15 -> 63.891 | G11: =(TRIGO!G45+Soja2º!G53) -> 95836.5 | H11: =('Maíz 2º'!G42+TRIGO!G45)/RESUMEN!Q15 -> 70.20552 | I11: =('Maíz 2º'!G42+TRIGO!G45) -> 105308.28 | J11: =+'MAIZ 1º'!G50/RESUMEN!Q15 -> 41.16252 | K11: =+'MAIZ 1º'!G50 -> 61743.78 | L11: =SORGO!G50/RESUMEN!Q15 -> 20.58126 | M11: =SORGO!G50 -> 30871.89 | N11: =SUMIF(SOJAsobreCS!$B:$B,$B11,SOJAsobreCS!$G:$G)/RESUMEN!$Q15 -> 36.922424 | O11: =+SUMIF(SOJAsobreCS!$B:$B,$B11,SOJAsobreCS!$G:$G) -> 55383.636 | P11: =SUMIF(MAIZsobreCS!$B:$B,$B11,MAIZsobreCS!$G:$G)/RESUMEN!$Q15 -> 38.589862 | Q11: =+SUMIF(MAIZsobreCS!$B:$B,$B11,MAIZsobreCS!$G:$G) -> 57884.794 | R11: =SUMIF(GIRASOL!$B:$B,$B11,GIRASOL!$G:$G)/RESUMEN!$Q15 -> 17.7088 | S11: =+SUMIF(GIRASOL!$B:$B,$B11,GIRASOL!$G:$G) -> 26563.2 | T11: =SUMIF(MANI!$B:$B,$B11,MANI!$G:$G)/RESUMEN!$Q15 -> 0 | U11: =+SUMIF(MANI!$B:$B,$B11,MANI!$G:$G) -> 0 | V11: =(+Camelina!G47+Soja2º!G53)/RESUMEN!Q15 -> 53.361 | W11: =Camelina!G47+Soja2º!G53 -> 80041.5
D12: =SUM(D7:D11)-D6 -> 0 | E12: =SUM(E7:E11)-E6 -> 0 | F12: =SUM(F7:F11)-F6 -> 0 | G12: =SUM(G7:G11)-G6 -> 0 | H12: =SUM(H7:H11)-H6 -> 68.88 | I12: =SUM(I7:I11)-I6 -> 0 | J12: =SUM(J7:J11)-J6 -> 0 | K12: =SUM(K7:K11)-K6 -> 0 | ... W12: =SUM(W7:W11)-W6 -> 0
C13: ALQUILER x HA. | D13: =+E13/RESUMEN!$Q$15 -> 544 | E13: =RESUMEN!F11*RESUMEN!Q15 -> 816000 | F13: qq. Soja | G13: =+RESUMEN!F10 -> 18.719031 | H13: qq. Trigo | I13: =+RESUMEN!H10 -> 29.739235 | J13: qq. Maíz | K13: =+RESUMEN!I10 -> 33.304083 | L13: qq. Sorgo | M13: =+RESUMEN!J10 -> 33.304083 | N13: qq. | P13: qq. | R13: qq. | T13: qq. | V13: qq. Camelina | W13: =+RESUMEN!O10 -> 11.413625
C15: INGRESOS x HA. | D15: =+D4 -> Soja 1º | F15: =+F4 -> Trigo-Soja | H15: =+H4 -> Trigo-Maíz | J15: =+J4 -> Maíz | L15: =+L4 -> Sorgo | N15: =+N4 -> SOJAsobreCS | P15: =+P4 -> MAIZsobreCS | R15: =+R4 -> Girasol | T15: =+T4 -> Mani | V15: =+V4 -> Camelina-Soja
D16: =+D5 -> dólares | E16: =+E5 -> pesos | F16: =+F5 -> dólares | G16: =+G5 -> pesos | H16: =+H5 -> dólares | I16: =+I5 -> pesos | J16: =+J5 -> dólares | K16: =+K5 -> pesos | ... W16: =+W5 -> pesos
C17: Ingreso Bruto | D17: =+E17/RESUMEN!$Q$15 -> 1409.76 | E17: =(RESUMEN!F5+'SOJA 1º'!D8)*RESUMEN!F8 -> 2114640 | F17: =+G17/RESUMEN!$Q$15 -> 925.155 | G17: =(RESUMEN!G5+TRIGO!D8)*RESUMEN!G8 -> 1387732.5 | H17: =+I17/RESUMEN!$Q$15 -> 925.155 | I17: =(RESUMEN!H5+TRIGO!D8)*RESUMEN!H8 -> 1387732.5 | J17: =+K17/RESUMEN!$Q$15 -> 2139.115 | K17: =(RESUMEN!$I$5+'SOJA 1º'!$D$8)*RESUMEN!I8 -> 3208672.5 | L17: =+M17/RESUMEN!$Q$15 -> 1302.07 | M17: =(RESUMEN!J5+'SOJA 1º'!$D$8)*RESUMEN!J8 -> 1953105 | N17: =+O17/RESUMEN!$Q$15 -> 1409.76 | O17: =(RESUMEN!K5+'SOJA 1º'!$D$8)*RESUMEN!K8 -> 2114640 | P17: =+Q17/RESUMEN!$Q$15 -> 1674.09 | Q17: =(RESUMEN!$I$5+'SOJA 1º'!$D$8)*RESUMEN!L8 -> 2511135 | R17: =+S17/RESUMEN!$Q$15 -> 1253.12 | S17: =(RESUMEN!M5+'SOJA 1º'!$D$8)*RESUMEN!M8 -> 1879680 | T17: =+U17/RESUMEN!$Q$15 -> 2062.753 | U17: =(RESUMEN!$N$5+'SOJA 1º'!$D$8)*RESUMEN!N8 -> 3094129.5 | V17: =+W17/RESUMEN!$Q$15 -> 549.219 | W17: =(RESUMEN!O5+Camelina!$D$8)*RESUMEN!O8 -> 823828.5 | AC17: =+RESUMEN!F4 -> 48000 | AD17: =+AC17*AC19 -> 2160000 | AE17: =+AD17*0.979 -> 2114640
C18: Ingreso Bruto | D18: =+E18/RESUMEN!$Q$15 -> 0 | F18: =+G18/RESUMEN!$Q$15 -> 1096.48 | G18: =(RESUMEN!F5+Soja2º!D8)*RESUMEN!G9 -> 1644720 | H18: =+I18/RESUMEN!$Q$15 -> 1395.075 | I18: =(RESUMEN!I5+'Maíz 2º'!D8)*RESUMEN!H9 -> 2092612.5 | J18: =+K18/RESUMEN!$Q$15 -> 0 | L18: =+M18/RESUMEN!$Q$15 -> 0 | V18: =+W18/RESUMEN!$Q$15 -> 1253.12 | W18: =(RESUMEN!F5+Soja2º!D8)*RESUMEN!O9 -> 1879680 | AC18: =+RESUMEN!F5 -> 43592 | AD18: =+AC18*AC19 -> 1961640
C19: Trilla | D19: =+E19/RESUMEN!$Q$15 -> -91.5432 | E19: =-RESUMEN!F8*RESUMEN!F5*'SOJA 1º'!C71/100 -> -137314.8 | F19: =+G19/RESUMEN!$Q$15 -> -147.22413 | G19: =-RESUMEN!G8*RESUMEN!G5*TRIGO!C51/100-RESUMEN!G9*RESUMEN!F5*Soja2º!C58/100 -> -220836.2 | H19: =+I19/RESUMEN!$Q$15 -> -163.8584 | I19: =-RESUMEN!G8*RESUMEN!G5*TRIGO!C51/100-RESUMEN!H9*RESUMEN!I5*'Maíz 2º'!C48/100 -> -245787.6 | J19: =+K19/RESUMEN!$Q$15 -> -150.27587 | K19: =-RESUMEN!I8*RESUMEN!I5*'MAIZ 1º'!C56/100 -> -225413.8 | L19: =+M19/RESUMEN!$Q$15 -> -91.472267 | M19: =-RESUMEN!J8*RESUMEN!J5*SORGO!C56/100 -> -137208.4 | N19: =+O19/RESUMEN!$Q$15 -> -104.6208 | O19: =-RESUMEN!K8*RESUMEN!K5*SOJAsobreCS!$C$70/100 -> -156931.2 | P19: =+Q19/RESUMEN!$Q$15 -> -110.25675 | Q19: =-RESUMEN!L8*RESUMEN!L5*MAIZsobreCS!C59/100 -> -165385.12 | R19: =+S19/RESUMEN!$Q$15 -> -94.446933 | S19: =-RESUMEN!M8*RESUMEN!M5*GIRASOL!C61/100 -> -141670.4 | T19: =+U19/RESUMEN!$Q$15 -> -158.67357 | U19: =-RESUMEN!N8*RESUMEN!N5*MANI!C69/100 -> -238010.36 | V19: =+W19/RESUMEN!$Q$15 -> -155.91055 | W19: =-RESUMEN!O8*RESUMEN!O5*Camelina!C52/100-RESUMEN!O9*RESUMEN!F5*Soja2º!C58/100 -> -233865.82 | AC19: =+RESUMEN!F8 -> 45
C20: Paritaria y Flete Corto | D20: =+E20/RESUMEN!$Q$15 -> -36 | E20: =-RESUMEN!F8*('SOJA 1º'!C74+'SOJA 1º'!C75) -> -54000 | F20: =+G20/RESUMEN!$Q$15 -> -64.9 | G20: =-(RESUMEN!G8)*(TRIGO!C54+TRIGO!C55)-RESUMEN!G9*(Soja2º!C62+Soja2º!C61) -> -97350 | H20: =+I20/RESUMEN!$Q$15 -> -96.9 | I20: =-(RESUMEN!G8)*(TRIGO!C54+TRIGO!C55)-RESUMEN!H9*('Maíz 2º'!C51+'Maíz 2º'!C52) -> -145350 | J20: =+K20/RESUMEN!$Q$15 -> -76.666667 | K20: =-RESUMEN!I8*('MAIZ 1º'!C59+'MAIZ 1º'!C60) -> -115000 | L20: =+M20/RESUMEN!$Q$15 -> 0 | M20: =-RESUMEN!J8*(SORGO!C59+SORGO!C60) -> 0 | N20: =+O20/RESUMEN!$Q$15 -> -2.55 | O20: =-RESUMEN!K8*(SUMIF(SOJAsobreCS!B:B,"Flete Corto",SOJAsobreCS!C:C)+SUMIF(SOJAsobreCS!B:B,"Paritaria",SOJAsobreCS!C:C)) -> -3825 | P20: =+Q20/RESUMEN!$Q$15 -> -6.9 | Q20: =-RESUMEN!L8*(SUMIF(MAIZsobreCS!B:B,"Flete Corto",MAIZsobreCS!C:C)+SUMIF(MAIZsobreCS!B:B,"Paritaria",MAIZsobreCS!C:C)) -> -10350 | R20: =+S20/RESUMEN!$Q$15 -> 0 | S20: =-RESUMEN!M8*(SUMIF(GIRASOL!B:B,"Flete Corto",GIRASOL!C:C)+SUMIF(GIRASOL!B:B,"Paritaria",GIRASOL!C:C)) -> 0 | T20: =+U20/RESUMEN!$Q$15 -> -1.9833333 | U20: =-RESUMEN!N8*(SUMIF(MANI!B:B,"Flete Corto",MANI!C:C)+SUMIF(MANI!B:B,"Paritaria",MANI!C:C)) -> -2975 | V20: =+W20/RESUMEN!$Q$15 -> -32 | W20: =-(RESUMEN!O8)*(Camelina!C55+Camelina!C56)-RESUMEN!O9*(Soja2º!C61+Soja2º!C62) -> -48000
C21: Flete Puerto | D21: =+E21/RESUMEN!$Q$15 -> -102 | E21: =-RESUMEN!F8*'SOJA 1º'!D8 -> -153000 | F21: =+G21/RESUMEN!$Q$15 -> -181.33333 | G21: =-RESUMEN!G8*TRIGO!D8-RESUMEN!G9*Soja2º!D8 -> -272000 | H21: =+I21/RESUMEN!$Q$15 -> -272 | I21: =-RESUMEN!H8*TRIGO!D8-RESUMEN!H9*'Maíz 2º'!D8 -> -408000 | J21: =+K21/RESUMEN!$Q$15 -> -260.66667 | K21: =-RESUMEN!I8*'MAIZ 1º'!D8 -> -391000 | L21: =+M21/RESUMEN!$Q$15 -> -158.66667 | M21: =-RESUMEN!J8*SORGO!D8 -> -238000 | N21: =+O21/RESUMEN!$Q$15 -> -102 | O21: =-RESUMEN!K8*SUMIF(SOJAsobreCS!B:B,"Flete Largo",SOJAsobreCS!D:D) -> -153000 | P21: =+Q21/RESUMEN!$Q$15 -> -204 | Q21: =-RESUMEN!L8*SUMIF(MAIZsobreCS!B:B,"Flete Largo",MAIZsobreCS!D:D) -> -306000 | R21: =+S21/RESUMEN!$Q$15 -> -72.533333 | S21: =-RESUMEN!M8*SUMIF(GIRASOL!B:B,"Flete Largo",GIRASOL!D:D) -> -108800 | T21: =+U21/RESUMEN!$Q$15 -> -79.333333 | U21: =-RESUMEN!N8*SUMIF(MANI!B:B,"Flete Largo",MANI!D:D) -> -119000 | V21: =+W21/RESUMEN!$Q$15 -> -115.6 | W21: =-RESUMEN!O8*Camelina!D8-RESUMEN!O9*Soja2º!D8 -> -173400
C23: Ganancia Bruta | D23: =SUM(D17:D22)-D13-D6 -> 213.91438 | E23: =SUM(E17:E22)-E6-E13 -> 320871.56 | F23: =SUM(F17:F22)-$D$13-$F$6 -> 220.27133 | G23: =SUM(G17:G22)-G6-E13 -> 330407 | H23: =SUM(H17:H22)-D13-H6 -> 36.62588 | I23: =SUM(I17:I22)-I6-E13 -> 54938.82 | J23: =SUM(J17:J22)-$D$13-J6 -> 282.18828 | K23: =SUM(K17:K22)-K6-$E$13 -> 423282.42 | L23: =SUM(L17:L22)-$D$13-L6 -> 18.864807 | M23: =SUM(M17:M22)-M6-$E$13 -> 28297.21 | N23: =SUM(N17:N22)-$D$13-N6 -> 142.22678 | O23: =SUM(O17:O22)-O6-$E$13 -> 213340.16 | P23: =SUM(P17:P22)-$D$13-P6 -> 19.358387 | Q23: =SUM(Q17:Q22)-Q6-$E$13 -> 29037.581 | R23: =SUM(R17:R22)-$D$13-R6 -> 46.220933 | S23: =SUM(S17:S22)-S6-$E$13 -> 69331.4 | T23: =SUM(T17:T22)-$D$13-T6 -> 644.42276 | U23: =SUM(U17:U22)-U6-$E$13 -> 966634.14 | V23: =SUM(V17:V22)-$D$13-$V$6 -> 310.64245 | W23: =SUM(W17:W22)-W6-U13 -> 1281963.7
